BEGIN:VCALENDAR
VERSION:2.0
PRODID:-//ASCM El Paso/Juarez Chapter - ECPv6.15.20//NONSGML v1.0//EN
CALSCALE:GREGORIAN
METHOD:PUBLISH
X-ORIGINAL-URL:https://apics-elpaso.org
X-WR-CALDESC:Events for ASCM El Paso/Juarez Chapter
REFRESH-INTERVAL;VALUE=DURATION:PT1H
X-Robots-Tag:noindex
X-PUBLISHED-TTL:PT1H
BEGIN:VTIMEZONE
TZID:America/Chicago
BEGIN:DAYLIGHT
TZOFFSETFROM:-0600
TZOFFSETTO:-0500
TZNAME:CDT
DTSTART:20250309T080000
END:DAYLIGHT
BEGIN:STANDARD
TZOFFSETFROM:-0500
TZOFFSETTO:-0600
TZNAME:CST
DTSTART:20251102T070000
END:STANDARD
BEGIN:DAYLIGHT
TZOFFSETFROM:-0600
TZOFFSETTO:-0500
TZNAME:CDT
DTSTART:20260308T080000
END:DAYLIGHT
BEGIN:STANDARD
TZOFFSETFROM:-0500
TZOFFSETTO:-0600
TZNAME:CST
DTSTART:20261101T070000
END:STANDARD
BEGIN:DAYLIGHT
TZOFFSETFROM:-0600
TZOFFSETTO:-0500
TZNAME:CDT
DTSTART:20270314T080000
END:DAYLIGHT
BEGIN:STANDARD
TZOFFSETFROM:-0500
TZOFFSETTO:-0600
TZNAME:CST
DTSTART:20271107T070000
END:STANDARD
END:VTIMEZONE
BEGIN:VEVENT
DTSTART;VALUE=DATE:20260411
DTEND;VALUE=DATE:20260412
DTSTAMP:20260424T085025
CREATED:20251205T092653Z
LAST-MODIFIED:20251212T115247Z
UID:4434-1775865600-1775951999@apics-elpaso.org
SUMMARY:CPIM New version 9.0
DESCRIPTION:Resilience and agility are what make supply chains thrive. By earning the APICS Certified in Planning and Inventory Management (CPIM) designation\, you’ll develop competencies to successfully work across all functions of the supply chain. In addition\, you’ll have the knowledge to effectively manage risks and disruptions\, as well as leverage technology to streamline processes. \nSessions: 8\nHours: 56
URL:https://apics-elpaso.org/event/cpim-new-version-9-0-2/
CATEGORIES:Certification
END:VEVENT
BEGIN:VEVENT
DTSTART;VALUE=DATE:20260314
DTEND;VALUE=DATE:20260315
DTSTAMP:20260424T085025
CREATED:20251205T092258Z
LAST-MODIFIED:20251212T120445Z
UID:4430-1773446400-1773532799@apics-elpaso.org
SUMMARY:CSCP
DESCRIPTION:APICS Certified Supply Chain Certification (CSCP) is the playbook you need to understand and deliver the critical processes for businesses to run efficiently\, for consumers to get the goods they need and society to function. This comprehensive program covers everything you need to know across the global supply chain\, from suppliers to customers and back again. Earning your CSCP designation shows that you have the skills to prepare for and overcome disruption\, manage risk\, and evaluate and implement modern supply chain technologies. \nSessions: 6\nHours: 42
URL:https://apics-elpaso.org/event/cscp/
CATEGORIES:Certification
END:VEVENT
BEGIN:VEVENT
DTSTART;VALUE=DATE:20260411
DTEND;VALUE=DATE:20260412
DTSTAMP:20260424T085025
CREATED:20251205T092653Z
LAST-MODIFIED:20251212T115247Z
UID:4434-1775865600-1775951999@apics-elpaso.org
SUMMARY:CPIM New version 9.0
DESCRIPTION:Resilience and agility are what make supply chains thrive. By earning the APICS Certified in Planning and Inventory Management (CPIM) designation\, you’ll develop competencies to successfully work across all functions of the supply chain. In addition\, you’ll have the knowledge to effectively manage risks and disruptions\, as well as leverage technology to streamline processes. \nSessions: 8\nHours: 56
URL:https://apics-elpaso.org/event/cpim-new-version-9-0-2/
CATEGORIES:Certification
END:VEVENT
BEGIN:VEVENT
DTSTART;VALUE=DATE:20260314
DTEND;VALUE=DATE:20260315
DTSTAMP:20260424T085025
CREATED:20251205T092258Z
LAST-MODIFIED:20251212T120445Z
UID:4430-1773446400-1773532799@apics-elpaso.org
SUMMARY:CSCP
DESCRIPTION:APICS Certified Supply Chain Certification (CSCP) is the playbook you need to understand and deliver the critical processes for businesses to run efficiently\, for consumers to get the goods they need and society to function. This comprehensive program covers everything you need to know across the global supply chain\, from suppliers to customers and back again. Earning your CSCP designation shows that you have the skills to prepare for and overcome disruption\, manage risk\, and evaluate and implement modern supply chain technologies. \nSessions: 6\nHours: 42
URL:https://apics-elpaso.org/event/cscp/
CATEGORIES:Certification
END:VEVENT
BEGIN:VEVENT
DTSTART;VALUE=DATE:20260314
DTEND;VALUE=DATE:20260315
DTSTAMP:20260424T085025
CREATED:20251205T092258Z
LAST-MODIFIED:20251212T120445Z
UID:4430-1773446400-1773532799@apics-elpaso.org
SUMMARY:CSCP
DESCRIPTION:APICS Certified Supply Chain Certification (CSCP) is the playbook you need to understand and deliver the critical processes for businesses to run efficiently\, for consumers to get the goods they need and society to function. This comprehensive program covers everything you need to know across the global supply chain\, from suppliers to customers and back again. Earning your CSCP designation shows that you have the skills to prepare for and overcome disruption\, manage risk\, and evaluate and implement modern supply chain technologies. \nSessions: 6\nHours: 42
URL:https://apics-elpaso.org/event/cscp/
CATEGORIES:Certification
END:VEVENT
BEGIN:VEVENT
DTSTART;VALUE=DATE:20260321
DTEND;VALUE=DATE:20260322
DTSTAMP:20260424T085025
CREATED:20251205T104521Z
LAST-MODIFIED:20251212T115516Z
UID:4452-1774051200-1774137599@apics-elpaso.org
SUMMARY:Certificate of Resilience
DESCRIPTION:The program provides you with comprehensive knowledge of the concepts\, practices\, and trends related to organizational and strategic supply chain resilience.  Integrate resilience in supply chain management Manage risk in supply chains Make data-driven decisions Strengthen supplier collaboration and relationships Prepare for potential disruptions using data & strategic planning \nSessions: 2\nHours: 12
URL:https://apics-elpaso.org/event/certificate-of-resilience/
CATEGORIES:Certification
END:VEVENT
BEGIN:VEVENT
DTSTART;VALUE=DATE:20260314
DTEND;VALUE=DATE:20260315
DTSTAMP:20260424T085025
CREATED:20251205T092258Z
LAST-MODIFIED:20251212T120445Z
UID:4430-1773446400-1773532799@apics-elpaso.org
SUMMARY:CSCP
DESCRIPTION:APICS Certified Supply Chain Certification (CSCP) is the playbook you need to understand and deliver the critical processes for businesses to run efficiently\, for consumers to get the goods they need and society to function. This comprehensive program covers everything you need to know across the global supply chain\, from suppliers to customers and back again. Earning your CSCP designation shows that you have the skills to prepare for and overcome disruption\, manage risk\, and evaluate and implement modern supply chain technologies. \nSessions: 6\nHours: 42
URL:https://apics-elpaso.org/event/cscp/
CATEGORIES:Certification
END:VEVENT
BEGIN:VEVENT
DTSTART;VALUE=DATE:20260321
DTEND;VALUE=DATE:20260322
DTSTAMP:20260424T085025
CREATED:20251205T104521Z
LAST-MODIFIED:20251212T115516Z
UID:4452-1774051200-1774137599@apics-elpaso.org
SUMMARY:Certificate of Resilience
DESCRIPTION:The program provides you with comprehensive knowledge of the concepts\, practices\, and trends related to organizational and strategic supply chain resilience.  Integrate resilience in supply chain management Manage risk in supply chains Make data-driven decisions Strengthen supplier collaboration and relationships Prepare for potential disruptions using data & strategic planning \nSessions: 2\nHours: 12
URL:https://apics-elpaso.org/event/certificate-of-resilience/
CATEGORIES:Certification
END:VEVENT
BEGIN:VEVENT
DTSTART;VALUE=DATE:20260314
DTEND;VALUE=DATE:20260315
DTSTAMP:20260424T085025
CREATED:20251205T092258Z
LAST-MODIFIED:20251212T120445Z
UID:4430-1773446400-1773532799@apics-elpaso.org
SUMMARY:CSCP
DESCRIPTION:APICS Certified Supply Chain Certification (CSCP) is the playbook you need to understand and deliver the critical processes for businesses to run efficiently\, for consumers to get the goods they need and society to function. This comprehensive program covers everything you need to know across the global supply chain\, from suppliers to customers and back again. Earning your CSCP designation shows that you have the skills to prepare for and overcome disruption\, manage risk\, and evaluate and implement modern supply chain technologies. \nSessions: 6\nHours: 42
URL:https://apics-elpaso.org/event/cscp/
CATEGORIES:Certification
END:VEVENT
BEGIN:VEVENT
DTSTART;VALUE=DATE:20260314
DTEND;VALUE=DATE:20260315
DTSTAMP:20260424T085025
CREATED:20251205T092258Z
LAST-MODIFIED:20251212T120445Z
UID:4430-1773446400-1773532799@apics-elpaso.org
SUMMARY:CSCP
DESCRIPTION:APICS Certified Supply Chain Certification (CSCP) is the playbook you need to understand and deliver the critical processes for businesses to run efficiently\, for consumers to get the goods they need and society to function. This comprehensive program covers everything you need to know across the global supply chain\, from suppliers to customers and back again. Earning your CSCP designation shows that you have the skills to prepare for and overcome disruption\, manage risk\, and evaluate and implement modern supply chain technologies. \nSessions: 6\nHours: 42
URL:https://apics-elpaso.org/event/cscp/
CATEGORIES:Certification
END:VEVENT
BEGIN:VEVENT
DTSTART;VALUE=DATE:20260207
DTEND;VALUE=DATE:20260208
DTSTAMP:20260424T085025
CREATED:20251205T091404Z
LAST-MODIFIED:20251212T111049Z
UID:4426-1770422400-1770508799@apics-elpaso.org
SUMMARY:CLTD - Hybrid Model El Paso Office Online
DESCRIPTION:Logistics challenges\, rising customer demands\, and rapid technological advancements are reshaping the supply chain landscape. By earning the CLTD certification\, you’ll gain the expertise to navigate these complexities and establish yourself as the go-to logistics expert in your organization. \nSessions: 4\nHours: 32
URL:https://apics-elpaso.org/event/cltd-hybrid-model-el-paso-office-online/
CATEGORIES:Certification
END:VEVENT
END:VCALENDAR