BEGIN:VCALENDAR
VERSION:2.0
PRODID:-//ASCM El Paso/Juarez Chapter - ECPv6.15.20//NONSGML v1.0//EN
CALSCALE:GREGORIAN
METHOD:PUBLISH
X-WR-CALNAME:ASCM El Paso/Juarez Chapter
X-ORIGINAL-URL:https://apics-elpaso.org
X-WR-CALDESC:Events for ASCM El Paso/Juarez Chapter
REFRESH-INTERVAL;VALUE=DURATION:PT1H
X-Robots-Tag:noindex
X-PUBLISHED-TTL:PT1H
BEGIN:VTIMEZONE
TZID:America/Chicago
BEGIN:DAYLIGHT
TZOFFSETFROM:-0600
TZOFFSETTO:-0500
TZNAME:CDT
DTSTART:20250309T080000
END:DAYLIGHT
BEGIN:STANDARD
TZOFFSETFROM:-0500
TZOFFSETTO:-0600
TZNAME:CST
DTSTART:20251102T070000
END:STANDARD
BEGIN:DAYLIGHT
TZOFFSETFROM:-0600
TZOFFSETTO:-0500
TZNAME:CDT
DTSTART:20260308T080000
END:DAYLIGHT
BEGIN:STANDARD
TZOFFSETFROM:-0500
TZOFFSETTO:-0600
TZNAME:CST
DTSTART:20261101T070000
END:STANDARD
BEGIN:DAYLIGHT
TZOFFSETFROM:-0600
TZOFFSETTO:-0500
TZNAME:CDT
DTSTART:20270314T080000
END:DAYLIGHT
BEGIN:STANDARD
TZOFFSETFROM:-0500
TZOFFSETTO:-0600
TZNAME:CST
DTSTART:20271107T070000
END:STANDARD
END:VTIMEZONE
BEGIN:VEVENT
DTSTART;VALUE=DATE:20260801
DTEND;VALUE=DATE:20260809
DTSTAMP:20260424T160344
CREATED:20251205T094808Z
LAST-MODIFIED:20251212T113706Z
UID:4442-1785542400-1786233599@apics-elpaso.org
SUMMARY:CTSC - Certified in Transformation for Supply Chain
DESCRIPTION:Earning the CTSC demonstrates your expertise in supply chain strategy\, proves your ability to lead a major transformation project and sets you apart from the competition—paving the way for new professional opportunities. The program leverages components of globally recognized industry standards\, including the ASCM SCOR Digital Standard (DS)\, Enterprise Standards for Sustainability and the Digital Capabilities Model (DCM) \nSessions: 4\nHours: 32
URL:https://apics-elpaso.org/event/ctsc-certified-in-transformation-for-supply-chain/
CATEGORIES:Certification
END:VEVENT
END:VCALENDAR