BEGIN:VCALENDAR
VERSION:2.0
PRODID:-//ASCM El Paso/Juarez Chapter - ECPv6.15.20//NONSGML v1.0//EN
CALSCALE:GREGORIAN
METHOD:PUBLISH
X-WR-CALNAME:ASCM El Paso/Juarez Chapter
X-ORIGINAL-URL:https://apics-elpaso.org
X-WR-CALDESC:Events for ASCM El Paso/Juarez Chapter
REFRESH-INTERVAL;VALUE=DURATION:PT1H
X-Robots-Tag:noindex
X-PUBLISHED-TTL:PT1H
BEGIN:VTIMEZONE
TZID:America/Chicago
BEGIN:DAYLIGHT
TZOFFSETFROM:-0600
TZOFFSETTO:-0500
TZNAME:CDT
DTSTART:20250309T080000
END:DAYLIGHT
BEGIN:STANDARD
TZOFFSETFROM:-0500
TZOFFSETTO:-0600
TZNAME:CST
DTSTART:20251102T070000
END:STANDARD
BEGIN:DAYLIGHT
TZOFFSETFROM:-0600
TZOFFSETTO:-0500
TZNAME:CDT
DTSTART:20260308T080000
END:DAYLIGHT
BEGIN:STANDARD
TZOFFSETFROM:-0500
TZOFFSETTO:-0600
TZNAME:CST
DTSTART:20261101T070000
END:STANDARD
BEGIN:DAYLIGHT
TZOFFSETFROM:-0600
TZOFFSETTO:-0500
TZNAME:CDT
DTSTART:20270314T080000
END:DAYLIGHT
BEGIN:STANDARD
TZOFFSETFROM:-0500
TZOFFSETTO:-0600
TZNAME:CST
DTSTART:20271107T070000
END:STANDARD
END:VTIMEZONE
BEGIN:VEVENT
DTSTART;VALUE=DATE:20260411
DTEND;VALUE=DATE:20260412
DTSTAMP:20260424T115937
CREATED:20251205T092653Z
LAST-MODIFIED:20251212T115247Z
UID:4434-1775865600-1775951999@apics-elpaso.org
SUMMARY:CPIM New version 9.0
DESCRIPTION:Resilience and agility are what make supply chains thrive. By earning the APICS Certified in Planning and Inventory Management (CPIM) designation\, you’ll develop competencies to successfully work across all functions of the supply chain. In addition\, you’ll have the knowledge to effectively manage risks and disruptions\, as well as leverage technology to streamline processes. \nSessions: 8\nHours: 56
URL:https://apics-elpaso.org/event/cpim-new-version-9-0-2/
CATEGORIES:Certification
END:VEVENT
BEGIN:VEVENT
DTSTART;VALUE=DATE:20260606
DTEND;VALUE=DATE:20260607
DTSTAMP:20260424T115937
CREATED:20251205T093817Z
LAST-MODIFIED:20251212T114205Z
UID:4440-1780704000-1780790399@apics-elpaso.org
SUMMARY:Demand Driven MRP Planner
DESCRIPTION:The Demand Driven Planner (DDP)™ Program is designed for planning\, purchasing and supply chain personnel responsible for implementing and maintaining a DDMRP implementation.  Designed by the leading authorities on DDMRP at the Demand Driven Institute\, the Demand Driven Planner program is comprised of 13 modules of in-depth DDMRP education. The DDP Program is THE official preparatory course for the Demand Driven Planner Professional (DDPP)™ certification exam. \nSessions: 3\nHours: 18
URL:https://apics-elpaso.org/event/demand-driven-mrp-planner/
CATEGORIES:Certification
END:VEVENT
BEGIN:VEVENT
DTSTART;VALUE=DATE:20260606
DTEND;VALUE=DATE:20260607
DTSTAMP:20260424T115937
CREATED:20251205T104952Z
LAST-MODIFIED:20251212T114132Z
UID:4456-1780704000-1780790399@apics-elpaso.org
SUMMARY:Certificate of Planning
DESCRIPTION:Synchronized planning is a cross functional approach to planning that engages multiple functional stakeholders working together to align their plans and strategies to create a cohesive and integrated plan that supports your organization goals and objectives. Understand the flow of planning from business plan to execution Link business strategy to company plans Contribute to production and control activities Interpret & Manage the master production schedule Interpret & manage the material requirements plan Determine order and reorder points Create a channel tree design for a distribution system Identify technologies to support synchronous planning \nSessions: 2\nHours: 12
URL:https://apics-elpaso.org/event/certificate-of-planning/
CATEGORIES:Certification
END:VEVENT
BEGIN:VEVENT
DTSTART;VALUE=DATE:20260606
DTEND;VALUE=DATE:20260607
DTSTAMP:20260424T115937
CREATED:20251205T093817Z
LAST-MODIFIED:20251212T114205Z
UID:4440-1780704000-1780790399@apics-elpaso.org
SUMMARY:Demand Driven MRP Planner
DESCRIPTION:The Demand Driven Planner (DDP)™ Program is designed for planning\, purchasing and supply chain personnel responsible for implementing and maintaining a DDMRP implementation.  Designed by the leading authorities on DDMRP at the Demand Driven Institute\, the Demand Driven Planner program is comprised of 13 modules of in-depth DDMRP education. The DDP Program is THE official preparatory course for the Demand Driven Planner Professional (DDPP)™ certification exam. \nSessions: 3\nHours: 18
URL:https://apics-elpaso.org/event/demand-driven-mrp-planner/
CATEGORIES:Certification
END:VEVENT
BEGIN:VEVENT
DTSTART;VALUE=DATE:20260606
DTEND;VALUE=DATE:20260607
DTSTAMP:20260424T115937
CREATED:20251205T104952Z
LAST-MODIFIED:20251212T114132Z
UID:4456-1780704000-1780790399@apics-elpaso.org
SUMMARY:Certificate of Planning
DESCRIPTION:Synchronized planning is a cross functional approach to planning that engages multiple functional stakeholders working together to align their plans and strategies to create a cohesive and integrated plan that supports your organization goals and objectives. Understand the flow of planning from business plan to execution Link business strategy to company plans Contribute to production and control activities Interpret & Manage the master production schedule Interpret & manage the material requirements plan Determine order and reorder points Create a channel tree design for a distribution system Identify technologies to support synchronous planning \nSessions: 2\nHours: 12
URL:https://apics-elpaso.org/event/certificate-of-planning/
CATEGORIES:Certification
END:VEVENT
BEGIN:VEVENT
DTSTART;VALUE=DATE:20260606
DTEND;VALUE=DATE:20260607
DTSTAMP:20260424T115937
CREATED:20251205T093817Z
LAST-MODIFIED:20251212T114205Z
UID:4440-1780704000-1780790399@apics-elpaso.org
SUMMARY:Demand Driven MRP Planner
DESCRIPTION:The Demand Driven Planner (DDP)™ Program is designed for planning\, purchasing and supply chain personnel responsible for implementing and maintaining a DDMRP implementation.  Designed by the leading authorities on DDMRP at the Demand Driven Institute\, the Demand Driven Planner program is comprised of 13 modules of in-depth DDMRP education. The DDP Program is THE official preparatory course for the Demand Driven Planner Professional (DDPP)™ certification exam. \nSessions: 3\nHours: 18
URL:https://apics-elpaso.org/event/demand-driven-mrp-planner/
CATEGORIES:Certification
END:VEVENT
BEGIN:VEVENT
DTSTART;VALUE=DATE:20260606
DTEND;VALUE=DATE:20260607
DTSTAMP:20260424T115937
CREATED:20251205T104952Z
LAST-MODIFIED:20251212T114132Z
UID:4456-1780704000-1780790399@apics-elpaso.org
SUMMARY:Certificate of Planning
DESCRIPTION:Synchronized planning is a cross functional approach to planning that engages multiple functional stakeholders working together to align their plans and strategies to create a cohesive and integrated plan that supports your organization goals and objectives. Understand the flow of planning from business plan to execution Link business strategy to company plans Contribute to production and control activities Interpret & Manage the master production schedule Interpret & manage the material requirements plan Determine order and reorder points Create a channel tree design for a distribution system Identify technologies to support synchronous planning \nSessions: 2\nHours: 12
URL:https://apics-elpaso.org/event/certificate-of-planning/
CATEGORIES:Certification
END:VEVENT
END:VCALENDAR